BEGIN:VCALENDAR
VERSION:2.0
PRODID:-//Tukios.com/
BEGIN:VEVENT
UID:72d34124-3b63-47bc-8744-a361c149886a@www.colefuneralhomeinc.net
DTSTAMP:20260425T201211Z
DTSTART:20260503
SUMMARY:Visitation
DESCRIPTION:Following the service.
URL:https://www.colefuneralhomeinc.net/obituaries/james-morales
LOCATION: 1544 University Parkway  Aiken SC 29801
GEO:33.5870021;-81.7385113
END:VEVENT
END:VCALENDAR