BEGIN:VCALENDAR
VERSION:2.0
PRODID:-//Tukios.com/
BEGIN:VEVENT
UID:92e144af-3dc8-4d26-b158-a97da603502d@www.colefuneralhomeinc.net
DTSTAMP:20260425T201447Z
DTSTART:20260503T190000Z
DTEND:20260503T200000Z
SUMMARY:Celebration of Life
DESCRIPTION:
URL:https://www.colefuneralhomeinc.net/obituaries/james-morales
LOCATION: 1544 University Parkway  Aiken SC 29801
GEO:33.5870021;-81.7385113
END:VEVENT
END:VCALENDAR