BEGIN:VCALENDAR
VERSION:2.0
PRODID:-//Tukios.com/
BEGIN:VEVENT
UID:31969a3b-35f2-4a94-bd82-6113bd3d4683@www.colefuneralhomeinc.net
DTSTAMP:20260421T000812Z
DTSTART:20260424
SUMMARY:Interment
DESCRIPTION:
URL:https://www.colefuneralhomeinc.net/obituaries/harold-thompson-sr
LOCATION: Gregg Hwy  Graniteville SC 29829
GEO:33.5698882;-81.7960773
END:VEVENT
END:VCALENDAR