BEGIN:VCALENDAR
VERSION:2.0
PRODID:-//Tukios.com/
BEGIN:VEVENT
UID:1196eae7-7155-48d3-a138-52fc2c07b252@www.colefuneralhomeinc.net
DTSTAMP:20260421T000120Z
DTSTART:20260424T190000Z
DTEND:20260424T200000Z
SUMMARY:Celebration of Life
DESCRIPTION:
URL:https://www.colefuneralhomeinc.net/obituaries/harold-thompson-sr
LOCATION:Cole Funeral Home Chapel 1544 University Parkway  Aiken SC 29801
GEO:33.5870021;-81.7385113
END:VEVENT
END:VCALENDAR