BEGIN:VCALENDAR
VERSION:2.0
PRODID:-//Tukios.com/
BEGIN:VEVENT
UID:6a47ed67-d865-47eb-88c4-59ebc8b98f7e@www.colefuneralhomeinc.net
DTSTAMP:20260421T000800Z
DTSTART:20260424T180000Z
DTEND:20260424T190000Z
SUMMARY:Visitation
DESCRIPTION:
URL:https://www.colefuneralhomeinc.net/obituaries/harold-thompson-sr
LOCATION:Cole Funeral Home 1544 University Pkwy  Aiken SC 29801
GEO:33.5869586;-81.7385113
END:VEVENT
END:VCALENDAR