BEGIN:VCALENDAR
VERSION:2.0
PRODID:-//Tukios.com/
BEGIN:VEVENT
UID:ff8a6945-ebbd-45b4-8667-2f8d904dcfbc@www.colefuneralhomeinc.net
DTSTAMP:20260421T000800Z
DTSTART:20260427
SUMMARY:Graveside Service
DESCRIPTION:
URL:https://www.colefuneralhomeinc.net/obituaries/dolores-hamrick
LOCATION: Gregg Highway  Aiken SC 29801
GEO:33.565596;-81.7723712
END:VEVENT
END:VCALENDAR