BEGIN:VCALENDAR
VERSION:2.0
PRODID:-//Tukios.com/
BEGIN:VEVENT
UID:49c3a717-724a-4911-a0c4-6f06c5e941be@www.colefuneralhomeinc.net
DTSTAMP:20260420T235930Z
DTSTART:20260427T140000Z
DTEND:20260427T150000Z
SUMMARY:Mass
DESCRIPTION:
URL:https://www.colefuneralhomeinc.net/obituaries/dolores-hamrick
LOCATION:Old St. Mary Help of Christians Church 203 Park Avenue Southeast 
	 Aiken SC 29801
GEO:33.5576025;-81.7184673
END:VEVENT
END:VCALENDAR